BEGIN:VCALENDAR
VERSION:2.0
PRODID:-//Brickwoods - ECPv5.10.1//NONSGML v1.0//EN
CALSCALE:GREGORIAN
METHOD:PUBLISH
X-WR-CALNAME:Brickwoods
X-ORIGINAL-URL:https://brickwoods.sc.ke
X-WR-CALDESC:Events for Brickwoods
BEGIN:VTIMEZONE
TZID:UTC
BEGIN:STANDARD
TZOFFSETFROM:+0000
TZOFFSETTO:+0000
TZNAME:UTC
DTSTART:20240101T000000
END:STANDARD
END:VTIMEZONE
BEGIN:VEVENT
DTSTART;VALUE=DATE:20241025
DTEND;VALUE=DATE:20241026
DTSTAMP:20260419T153717
CREATED:20240101T141844Z
LAST-MODIFIED:20240919T052235Z
UID:1766-1729814400-1729900799@brickwoods.sc.ke
SUMMARY:KEPSEA Rehearsals Day
DESCRIPTION:
URL:https://brickwoods.sc.ke/event/school-events-4/
CATEGORIES:Exams
END:VEVENT
END:VCALENDAR