BEGIN:VCALENDAR
VERSION:2.0
PRODID:-//Brickwoods - ECPv5.10.1//NONSGML v1.0//EN
CALSCALE:GREGORIAN
METHOD:PUBLISH
X-WR-CALNAME:Brickwoods
X-ORIGINAL-URL:https://brickwoods.sc.ke
X-WR-CALDESC:Events for Brickwoods
BEGIN:VTIMEZONE
TZID:UTC
BEGIN:STANDARD
TZOFFSETFROM:+0000
TZOFFSETTO:+0000
TZNAME:UTC
DTSTART:20210101T000000
END:STANDARD
END:VTIMEZONE
BEGIN:VEVENT
DTSTART;TZID=UTC:20211209T100000
DTEND;TZID=UTC:20211209T130000
DTSTAMP:20260423T203726
CREATED:20220107T140632Z
LAST-MODIFIED:20220107T140644Z
UID:1760-1639044000-1639054800@brickwoods.sc.ke
SUMMARY:Nation Media Group - Taifa Leo
DESCRIPTION:Gave out News papers\, T-Shirts and Pens
URL:https://brickwoods.sc.ke/event/nation-media-group-taifa-leo/
CATEGORIES:visiting
END:VEVENT
BEGIN:VEVENT
DTSTART;TZID=UTC:20211210T090000
DTEND;TZID=UTC:20211210T130000
DTSTAMP:20260423T203726
CREATED:20220107T140923Z
LAST-MODIFIED:20220107T140935Z
UID:1762-1639126800-1639141200@brickwoods.sc.ke
SUMMARY:Upper Primary Sports Day (Held in the main field)
DESCRIPTION:
URL:https://brickwoods.sc.ke/event/upper-primary-sports-day-held-in-the-main-field/
CATEGORIES:visiting
END:VEVENT
END:VCALENDAR