BEGIN:VCALENDAR
VERSION:2.0
PRODID:-//Brickwoods - ECPv5.10.1//NONSGML v1.0//EN
CALSCALE:GREGORIAN
METHOD:PUBLISH
X-WR-CALNAME:Brickwoods
X-ORIGINAL-URL:https://brickwoods.sc.ke
X-WR-CALDESC:Events for Brickwoods
BEGIN:VTIMEZONE
TZID:UTC
BEGIN:STANDARD
TZOFFSETFROM:+0000
TZOFFSETTO:+0000
TZNAME:UTC
DTSTART:20250101T000000
END:STANDARD
END:VTIMEZONE
BEGIN:VEVENT
DTSTART;VALUE=DATE:20251025
DTEND;VALUE=DATE:20251026
DTSTAMP:20260420T071216
CREATED:20240101T141315Z
LAST-MODIFIED:20250830T055739Z
UID:1742-1761350400-1761436799@brickwoods.sc.ke
SUMMARY:PP2 Graduation
DESCRIPTION:
URL:https://brickwoods.sc.ke/event/graduation/
CATEGORIES:Graduation
END:VEVENT
END:VCALENDAR