BEGIN:VCALENDAR
VERSION:2.0
PRODID:-//Brickwoods - ECPv5.10.1//NONSGML v1.0//EN
CALSCALE:GREGORIAN
METHOD:PUBLISH
X-WR-CALNAME:Brickwoods
X-ORIGINAL-URL:https://brickwoods.sc.ke
X-WR-CALDESC:Events for Brickwoods
BEGIN:VTIMEZONE
TZID:UTC
BEGIN:STANDARD
TZOFFSETFROM:+0000
TZOFFSETTO:+0000
TZNAME:UTC
DTSTART:20210101T000000
END:STANDARD
END:VTIMEZONE
BEGIN:VEVENT
DTSTART;TZID=UTC:20210922T100000
DTEND;TZID=UTC:20210922T130000
DTSTAMP:20260424T022538
CREATED:20220107T124948Z
LAST-MODIFIED:20220107T125024Z
UID:1748-1632304800-1632315600@brickwoods.sc.ke
SUMMARY:Cooporate Social Responsibility (Palliative Care Care Centre Nanyuki)
DESCRIPTION:seven teachers to represent
URL:https://brickwoods.sc.ke/event/cooporate-social-responsibility-palliative-care-care-centre-nanyuki/
END:VEVENT
END:VCALENDAR