BEGIN:VCALENDAR
VERSION:2.0
PRODID:-//Brickwoods - ECPv5.10.1//NONSGML v1.0//EN
CALSCALE:GREGORIAN
METHOD:PUBLISH
X-WR-CALNAME:Brickwoods
X-ORIGINAL-URL:https://brickwoods.sc.ke
X-WR-CALDESC:Events for Brickwoods
BEGIN:VTIMEZONE
TZID:UTC
BEGIN:STANDARD
TZOFFSETFROM:+0000
TZOFFSETTO:+0000
TZNAME:UTC
DTSTART:20210101T000000
END:STANDARD
END:VTIMEZONE
BEGIN:VEVENT
DTSTART;TZID=UTC:20210715T090000
DTEND;TZID=UTC:20210715T130000
DTSTAMP:20260424T045809
CREATED:20220107T140218Z
LAST-MODIFIED:20230509T113753Z
UID:1758-1626339600-1626354000@brickwoods.sc.ke
SUMMARY:Lower Primary Sports Day (Held at the main field)
DESCRIPTION:
URL:https://brickwoods.sc.ke/event/lower-primary-sports-day-held-at-the-main-field/
CATEGORIES:visiting
END:VEVENT
END:VCALENDAR